BEGIN:VCALENDAR
VERSION:2.0
PRODID:-//TLM - ECPv6.9.0//NONSGML v1.0//EN
CALSCALE:GREGORIAN
METHOD:PUBLISH
X-WR-CALNAME:TLM
X-ORIGINAL-URL:https://tlm.org.uk
X-WR-CALDESC:Events for TLM
REFRESH-INTERVAL;VALUE=DURATION:PT1H
X-Robots-Tag:noindex
X-PUBLISHED-TTL:PT1H
BEGIN:VTIMEZONE
TZID:Europe/London
BEGIN:DAYLIGHT
TZOFFSETFROM:+0000
TZOFFSETTO:+0100
TZNAME:BST
DTSTART:20210328T010000
END:DAYLIGHT
BEGIN:STANDARD
TZOFFSETFROM:+0100
TZOFFSETTO:+0000
TZNAME:GMT
DTSTART:20211031T010000
END:STANDARD
END:VTIMEZONE
BEGIN:VEVENT
DTSTART;TZID=Europe/London:20210504T150000
DTEND;TZID=Europe/London:20210504T160000
DTSTAMP:20260423T022723
CREATED:20210412T114644Z
LAST-MODIFIED:20210412T114644Z
UID:2579-1620140400-1620144000@tlm.org.uk
SUMMARY:TLM Essential Digital Skills Qualifications workshop
DESCRIPTION:Workshop agenda: \n\nEDSQ Entry Level and L1\nStepping stones\nFunding\nEDSQ Units\nUnder the bonnet\n\n\nHow are Units assessed?\nHow do Practical assessments work?\nHow do Examinations work?\nHow does qualification work?\n\n\nSupport\nScenarios\nQuestions\n\nTo register for the workshop please follow this link.\n \nDue to Coronavirus (COVID-19) workshops will take place online until further notice.
URL:https://tlm.org.uk/event/tlm-essential-digital-skills-qualifications-workshop-3/
END:VEVENT
BEGIN:VEVENT
DTSTART;TZID=Europe/London:20210507T110000
DTEND;TZID=Europe/London:20210507T130000
DTSTAMP:20260423T022723
CREATED:20210225T111835Z
LAST-MODIFIED:20210419T195217Z
UID:2329-1620385200-1620392400@tlm.org.uk
SUMMARY:TLM Webinar - Alternative assessment arrangements 2021
DESCRIPTION:TLM is offering a webinar to answer your queries and walk you through the awarding process 2020-21. \nAgenda: \n– TLM Centre Guidance \n– Annex 1 – Head of Centre declaration \n–  Annex 2 – TLM template for submitting Teacher assessed grades 2021 \nTo register for the webinar please follow this link.
URL:https://tlm.org.uk/event/tlm-moderation-support-workshop-48/
END:VEVENT
BEGIN:VEVENT
DTSTART;TZID=Europe/London:20210512T140000
DTEND;TZID=Europe/London:20210512T153000
DTSTAMP:20260423T022723
CREATED:20210412T115033Z
LAST-MODIFIED:20210412T115033Z
UID:2582-1620828000-1620833400@tlm.org.uk
SUMMARY:TLM Essential Digital Skills Qualifications workshop
DESCRIPTION:Workshop agenda: \n\nEDSQ Entry Level and L1\nStepping stones\nFunding\nEDSQ Units\nUnder the bonnet\n\n\nHow are Units assessed?\nHow do Practical assessments work?\nHow do Examinations work?\nHow does qualification work?\n\n\nSupport\nScenarios\nQuestions\n\nTo register for the workshop please follow this link.\n \nDue to Coronavirus (COVID-19) workshops will take place online until further notice.
URL:https://tlm.org.uk/event/tlm-essential-digital-skills-qualifications-workshop-4/
END:VEVENT
BEGIN:VEVENT
DTSTART;TZID=Europe/London:20210521T110000
DTEND;TZID=Europe/London:20210521T123000
DTSTAMP:20260423T022723
CREATED:20210412T115246Z
LAST-MODIFIED:20210412T115246Z
UID:2585-1621594800-1621600200@tlm.org.uk
SUMMARY:TLM Essential Digital Skills Qualifications workshop
DESCRIPTION:Workshop agenda: \n\nEDSQ Entry Level and L1\nStepping stones\nFunding\nEDSQ Units\nUnder the bonnet\n\n\nHow are Units assessed?\nHow do Practical assessments work?\nHow do Examinations work?\nHow does qualification work?\n\n\nSupport\nScenarios\nQuestions\n\nTo register for the workshop please follow this link.\n \nDue to Coronavirus (COVID-19) workshops will take place online until further notice.
URL:https://tlm.org.uk/event/tlm-essential-digital-skills-qualifications-workshop-5/
END:VEVENT
BEGIN:VEVENT
DTSTART;TZID=Europe/London:20210528T110000
DTEND;TZID=Europe/London:20210528T130000
DTSTAMP:20260423T022723
CREATED:20210225T112040Z
LAST-MODIFIED:20210225T112040Z
UID:2335-1622199600-1622206800@tlm.org.uk
SUMMARY:TLM Moderation & Support Workshop
DESCRIPTION:TLM is pleased to announce to our centres the opportunity to carry out moderation and support workshops\, these are to increase the confidence and knowledge of: \n\nCompliance\, Duty of Care\, Centre Obligations\, Centre Policies\nCoursework requirements\n\nSchemes of learning – organising coursework and exam components\nDeadlines\nModeration process\n\nWays of submitting work\nWhat moderation on demand really means\n\n\n\n\nStandards exemplification\n\n\n\nWhat is expected from describing?\nWhich criteria need evidence?\n\n\n\n\nAccessing TLM resources\n\nMoodle / Mahara as our “open source – share and share alike” platforms\n\n\n\n\nThe workshop agenda:\n\n10:30 – 11:00. Meet and greet\n11:00 – 12:30.\n\nCompliance\, Duty of Care\, Centre Obligations\, Centre Policies\nConflict of interest and Malpractice and Maladministration\, how to identify\, record and manage\nQualifications offered by TLM\nL1 and L2 standards\nModeration process (Deadlines\, moderation on demand\, standardization)\nTLM systems (Markbook and exam systems)\nTLM resources (Moodle/Mahara).\n\n\n12:30 – 13:00. Lunch break provided by TLM.\n13:00 – 14:30. Example work\, open discussion. Commonly Asked Questions\n\nTo register for the workshop please follow this link.\n \nDue to Coronavirus (COVID-19) workshops will take place online until further notice.
URL:https://tlm.org.uk/event/tlm-moderation-support-workshop-51/
END:VEVENT
END:VCALENDAR