BEGIN:VCALENDAR
VERSION:2.0
PRODID:-//TLM - ECPv6.9.0//NONSGML v1.0//EN
CALSCALE:GREGORIAN
METHOD:PUBLISH
X-WR-CALNAME:TLM
X-ORIGINAL-URL:https://tlm.org.uk
X-WR-CALDESC:Events for TLM
REFRESH-INTERVAL;VALUE=DURATION:PT1H
X-Robots-Tag:noindex
X-PUBLISHED-TTL:PT1H
BEGIN:VTIMEZONE
TZID:Europe/London
BEGIN:DAYLIGHT
TZOFFSETFROM:+0000
TZOFFSETTO:+0100
TZNAME:BST
DTSTART:20210328T010000
END:DAYLIGHT
BEGIN:STANDARD
TZOFFSETFROM:+0100
TZOFFSETTO:+0000
TZNAME:GMT
DTSTART:20211031T010000
END:STANDARD
END:VTIMEZONE
BEGIN:VEVENT
DTSTART;TZID=Europe/London:20211001T110000
DTEND;TZID=Europe/London:20211001T120000
DTSTAMP:20260422T174626
CREATED:20210824T101703Z
LAST-MODIFIED:20210824T123409Z
UID:2828-1633086000-1633089600@tlm.org.uk
SUMMARY:TLM Essential Digital Skills Qualifications - Introduction Workshop
DESCRIPTION:  \nThis introduction workshop is designed for centres that want to learn more about TLM Essential Digital Skills Qualifications and how to get started. \nWorkshop agenda: \n\nEDSQ Entry Level and L1\nStepping stones\nFunding\nEDSQ Units\nUnder the bonnet\n\n\nHow are Units assessed?\nHow do Practical assessments work?\nHow do Examinations work?\nHow does qualification work?\n\n\nSupport\nScenarios\nQuestions\n\nTo register for the workshop please follow this link.\n \nDue to Coronavirus (COVID-19) workshops will take place online until further notice.
URL:https://tlm.org.uk/event/tlm-essential-digital-skills-qualifications-introduction-workshop/
END:VEVENT
BEGIN:VEVENT
DTSTART;TZID=Europe/London:20211001T130000
DTEND;TZID=Europe/London:20211001T143000
DTSTAMP:20260422T174626
CREATED:20210824T105837Z
LAST-MODIFIED:20210824T124625Z
UID:2838-1633093200-1633098600@tlm.org.uk
SUMMARY:TLM - Essential Digital Skills - Support Workshop
DESCRIPTION:  \nThis support workshop is designed for approved TLM centres to introduce the available resources to support the delivery of the qualification at both levels.\nWorkshop agenda: \n1. Compliance\, Duty of Care\, Centre Obligations\, Centre Policies (Conflict of interest and Malpractice and Maladministration\, how to identify\, record and manage) \n2. Support in the delivery of the EDSQ \n\ndiagnostic tool \nlesson plans \nsample assessment and good practice \nMock exam \ntransaction simulator \nexternal resources \n\n3. Controlled Assessment  \n\nHow are Units assessed? \nHow do Practical assessments work? \nHow do Examinations work?\n\n4. TLM systems (Markbook and exam systems) \n 5. Formative sampling (Moderation process) \nTo register for the workshop please follow this link.\n \nDue to Coronavirus (COVID-19) workshops will take place online until further notice. \n 
URL:https://tlm.org.uk/event/tlm-essential-digital-skills-support-workshop-2/
END:VEVENT
BEGIN:VEVENT
DTSTART;TZID=Europe/London:20211008T110000
DTEND;TZID=Europe/London:20211008T120000
DTSTAMP:20260422T174626
CREATED:20210824T101929Z
LAST-MODIFIED:20210824T123429Z
UID:2832-1633690800-1633694400@tlm.org.uk
SUMMARY:TLM Essential Digital Skills Qualifications - Introduction Workshop
DESCRIPTION:  \nThis introduction workshop is designed for centres that want to learn more about TLM Essential Digital Skills Qualifications and how to get started. \nWorkshop agenda: \n\nEDSQ Entry Level and L1\nStepping stones\nFunding\nEDSQ Units\nUnder the bonnet\n\n\nHow are Units assessed?\nHow do Practical assessments work?\nHow do Examinations work?\nHow does qualification work?\n\n\nSupport\nScenarios\nQuestions\n\nTo register for the workshop please follow this link.\n \nDue to Coronavirus (COVID-19) workshops will take place online until further notice.
URL:https://tlm.org.uk/event/tlm-essential-digital-skills-qualifications-introduction-workshop-2/
END:VEVENT
BEGIN:VEVENT
DTSTART;TZID=Europe/London:20211008T130000
DTEND;TZID=Europe/London:20211008T143000
DTSTAMP:20260422T174626
CREATED:20210917T141728Z
LAST-MODIFIED:20210917T141728Z
UID:2959-1633698000-1633703400@tlm.org.uk
SUMMARY:TLM IT User Skills Support Workshop
DESCRIPTION:  \nTLM is pleased to announce to our centres the opportunity to carry out compliance and support workshops\, these are to increase the confidence and knowledge of: \n\nCompliance\, Duty of Care\, Centre Obligations\, Centre Policies\n\n\nCoursework requirements\n\n\nSchemes of learning – organising coursework and exam components\n\n\nDeadlines\n\n\nModeration process\n\n\nWays of submitting work\nWhat moderation on demand really means\n\n\nStandards exemplification\n\n\nWhat is expected from describing?\nWhich criteria need evidence?\n\n\nAccessing TLM resources\n\n\nMoodle / Mahara as our “open source – share and share alike” platforms\n\nThe workshop agenda: \n\nCompliance\, Duty of Care\, Centre Obligations\, Centre Policies\nConflict of interest and Malpractice and Maladministration\, how to identify\, record and manage\nQualifications offered by TLM\nL1 and L2 standards\nModeration process (Deadlines\, moderation on demand\, standardization)\nTLM systems (Centre Management and exam systems)\n Example work\, open discussion. Commonly Asked Questions\n\nTo register for the workshop please follow this link.\n \nDue to Coronavirus (COVID-19) workshops will take place online until further notice.
URL:https://tlm.org.uk/event/tlm-it-user-skills-support-workshop-2/
END:VEVENT
BEGIN:VEVENT
DTSTART;TZID=Europe/London:20211015T110000
DTEND;TZID=Europe/London:20211015T120000
DTSTAMP:20260422T174626
CREATED:20210824T130401Z
LAST-MODIFIED:20210824T130401Z
UID:2854-1634295600-1634299200@tlm.org.uk
SUMMARY:TLM Essential Digital Skills Qualifications - Introduction Workshop
DESCRIPTION:This introduction workshop is designed for centres that want to learn more about TLM Essential Digital Skills Qualifications and how to get started. \nWorkshop agenda: \n\nEDSQ Entry Level and L1\nStepping stones\nFunding\nEDSQ Units\nUnder the bonnet\n\n\nHow are Units assessed?\nHow do Practical assessments work?\nHow do Examinations work?\nHow does qualification work?\n\n\nSupport\nScenarios\nQuestions\n\nTo register for the workshop please follow this link.\n \nDue to Coronavirus (COVID-19) workshops will take place online until further notice.
URL:https://tlm.org.uk/event/tlm-essential-digital-skills-qualifications-introduction-workshop-4/
END:VEVENT
BEGIN:VEVENT
DTSTART;TZID=Europe/London:20211015T130000
DTEND;TZID=Europe/London:20211015T143000
DTSTAMP:20260422T174626
CREATED:20210824T150130Z
LAST-MODIFIED:20210824T150130Z
UID:2885-1634302800-1634308200@tlm.org.uk
SUMMARY:TLM - Essential Digital Skills - Support Workshop
DESCRIPTION:  \nThis support workshop is designed for approved TLM centres to introduce the available resources to support the delivery of the qualification at both levels.\nWorkshop agenda: \n1. Compliance\, Duty of Care\, Centre Obligations\, Centre Policies (Conflict of interest and Malpractice and Maladministration\, how to identify\, record and manage) \n2. Support in the delivery of the EDSQ \n\ndiagnostic tool \nlesson plans \nsample assessment and good practice \nMock exam \ntransaction simulator \nexternal resources \n\n3. Controlled Assessment  \n\nHow are Units assessed? \nHow do Practical assessments work? \nHow do Examinations work?\n\n4. TLM systems (Markbook and exam systems) \n 5. Formative sampling (Moderation process) \nTo register for the workshop please follow this link.\n \nDue to Coronavirus (COVID-19) workshops will take place online until further notice. \n 
URL:https://tlm.org.uk/event/tlm-essential-digital-skills-support-workshop-3/
END:VEVENT
BEGIN:VEVENT
DTSTART;TZID=Europe/London:20211022T110000
DTEND;TZID=Europe/London:20211022T120000
DTSTAMP:20260422T174626
CREATED:20210824T145500Z
LAST-MODIFIED:20210824T145500Z
UID:2872-1634900400-1634904000@tlm.org.uk
SUMMARY:TLM Essential Digital Skills Qualifications - Introduction Workshop
DESCRIPTION:This introduction workshop is designed for centres that want to learn more about TLM Essential Digital Skills Qualifications and how to get started. \nWorkshop agenda: \n\nEDSQ Entry Level and L1\nStepping stones\nFunding\nEDSQ Units\nUnder the bonnet\n\n\nHow are Units assessed?\nHow do Practical assessments work?\nHow do Examinations work?\nHow does qualification work?\n\n\nSupport\nScenarios\nQuestions\n\nTo register for the workshop please follow this link.\n \nDue to Coronavirus (COVID-19) workshops will take place online until further notice.
URL:https://tlm.org.uk/event/tlm-essential-digital-skills-qualifications-introduction-workshop-5/
END:VEVENT
BEGIN:VEVENT
DTSTART;TZID=Europe/London:20211022T130000
DTEND;TZID=Europe/London:20211022T143000
DTSTAMP:20260422T174626
CREATED:20210917T141744Z
LAST-MODIFIED:20210917T141744Z
UID:2961-1634907600-1634913000@tlm.org.uk
SUMMARY:TLM IT User Skills Support Workshop
DESCRIPTION:  \nTLM is pleased to announce to our centres the opportunity to carry out compliance and support workshops\, these are to increase the confidence and knowledge of: \n\nCompliance\, Duty of Care\, Centre Obligations\, Centre Policies\n\n\nCoursework requirements\n\n\nSchemes of learning – organising coursework and exam components\n\n\nDeadlines\n\n\nModeration process\n\n\nWays of submitting work\nWhat moderation on demand really means\n\n\nStandards exemplification\n\n\nWhat is expected from describing?\nWhich criteria need evidence?\n\n\nAccessing TLM resources\n\n\nMoodle / Mahara as our “open source – share and share alike” platforms\n\nThe workshop agenda: \n\nCompliance\, Duty of Care\, Centre Obligations\, Centre Policies\nConflict of interest and Malpractice and Maladministration\, how to identify\, record and manage\nQualifications offered by TLM\nL1 and L2 standards\nModeration process (Deadlines\, moderation on demand\, standardization)\nTLM systems (Centre Management and exam systems)\n Example work\, open discussion. Commonly Asked Questions\n\nTo register for the workshop please follow this link.\n \nDue to Coronavirus (COVID-19) workshops will take place online until further notice.
URL:https://tlm.org.uk/event/tlm-it-user-skills-support-workshop-3/
END:VEVENT
BEGIN:VEVENT
DTSTART;TZID=Europe/London:20211029T110000
DTEND;TZID=Europe/London:20211029T120000
DTSTAMP:20260422T174626
CREATED:20210824T145544Z
LAST-MODIFIED:20210824T145544Z
UID:2874-1635505200-1635508800@tlm.org.uk
SUMMARY:TLM Essential Digital Skills Qualifications - Introduction Workshop
DESCRIPTION:This introduction workshop is designed for centres that want to learn more about TLM Essential Digital Skills Qualifications and how to get started. \nWorkshop agenda: \n\nEDSQ Entry Level and L1\nStepping stones\nFunding\nEDSQ Units\nUnder the bonnet\n\n\nHow are Units assessed?\nHow do Practical assessments work?\nHow do Examinations work?\nHow does qualification work?\n\n\nSupport\nScenarios\nQuestions\n\nTo register for the workshop please follow this link.\n \nDue to Coronavirus (COVID-19) workshops will take place online until further notice.
URL:https://tlm.org.uk/event/tlm-essential-digital-skills-qualifications-introduction-workshop-6/
END:VEVENT
BEGIN:VEVENT
DTSTART;TZID=Europe/London:20211029T130000
DTEND;TZID=Europe/London:20211029T143000
DTSTAMP:20260422T174626
CREATED:20210824T150234Z
LAST-MODIFIED:20211015T082507Z
UID:2888-1635512400-1635517800@tlm.org.uk
SUMMARY:TLM - Essential Digital Skills - Support Workshop - SOLD OUT
DESCRIPTION:  \nThis support workshop is designed for approved TLM centres to introduce the available resources to support the delivery of the qualification at both levels.\nWorkshop agenda: \n1. Compliance\, Duty of Care\, Centre Obligations\, Centre Policies (Conflict of interest and Malpractice and Maladministration\, how to identify\, record and manage) \n2. Support in the delivery of the EDSQ \n\ndiagnostic tool \nlesson plans \nsample assessment and good practice \nMock exam \ntransaction simulator \nexternal resources \n\n3. Controlled Assessment  \n\nHow are Units assessed? \nHow do Practical assessments work? \nHow do Examinations work?\n\n4. TLM systems (Markbook and exam systems) \n 5. Formative sampling (Moderation process) \nTo register for the workshop please follow this link.\n \nDue to Coronavirus (COVID-19) workshops will take place online until further notice. \n 
URL:https://tlm.org.uk/event/tlm-essential-digital-skills-support-workshop-4/
END:VEVENT
END:VCALENDAR